{
 "currentVersion": 10.91,
 "serviceDescription": "Orthophoto de l'Agglomération de Longueuil -Juillet 2019 - Résolution de pixel de 25 cm - Projection Web Mercator",
 "mapName": "Layers",
 "description": "",
 "copyrightText": "",
 "supportsDynamicLayers": false,
 "layers": [
  {
   "id": 0,
   "name": "Orthophoto2020 WebMercator",
   "parentLayerId": -1,
   "defaultVisibility": true,
   "subLayerIds": null,
   "minScale": 0,
   "maxScale": 0,
   "type": "Raster Layer"
  }
 ],
 "tables": [],
 "spatialReference": {
  "wkid": 102100,
  "latestWkid": 3857
 },
 "singleFusedMapCache": true,
 "tileInfo": {
  "rows": 256,
  "cols": 256,
  "dpi": 96,
  "format": "Mixed",
  "compressionQuality": 100,
  "origin": {
   "x": -20037700,
   "y": 30241100
  },
  "spatialReference": {
   "wkid": 102100,
   "latestWkid": 3857
  },
  "lods": [
   {
    "level": 0,
    "resolution": 541.8677504021675,
    "scale": 2048000
   },
   {
    "level": 1,
    "resolution": 305.74811314055756,
    "scale": 1155581.108577
   },
   {
    "level": 2,
    "resolution": 270.93387520108377,
    "scale": 1024000
   },
   {
    "level": 3,
    "resolution": 152.87405657041106,
    "scale": 577790.554289
   },
   {
    "level": 4,
    "resolution": 135.46693760054188,
    "scale": 512000
   },
   {
    "level": 5,
    "resolution": 76.43702828507324,
    "scale": 288895.277144
   },
   {
    "level": 6,
    "resolution": 67.73346880027094,
    "scale": 256000
   },
   {
    "level": 7,
    "resolution": 66.1459656252646,
    "scale": 250000
   },
   {
    "level": 8,
    "resolution": 52.91677250021167,
    "scale": 200000
   },
   {
    "level": 9,
    "resolution": 39.687579375158755,
    "scale": 150000
   },
   {
    "level": 10,
    "resolution": 38.21851414253662,
    "scale": 144447.638572
   },
   {
    "level": 11,
    "resolution": 33.86673440013547,
    "scale": 128000
   },
   {
    "level": 12,
    "resolution": 26.458386250105836,
    "scale": 100000
   },
   {
    "level": 13,
    "resolution": 19.843789687579378,
    "scale": 75000
   },
   {
    "level": 14,
    "resolution": 19.10925707126831,
    "scale": 72223.819286
   },
   {
    "level": 15,
    "resolution": 16.933367200067735,
    "scale": 64000
   },
   {
    "level": 16,
    "resolution": 13.229193125052918,
    "scale": 50000
   },
   {
    "level": 17,
    "resolution": 9.554628535634155,
    "scale": 36111.909643
   },
   {
    "level": 18,
    "resolution": 8.466683600033868,
    "scale": 32000
   },
   {
    "level": 19,
    "resolution": 6.614596562526459,
    "scale": 25000
   },
   {
    "level": 20,
    "resolution": 4.77731426794937,
    "scale": 18055.954822
   },
   {
    "level": 21,
    "resolution": 4.233341800016934,
    "scale": 16000
   },
   {
    "level": 22,
    "resolution": 2.6458386250105836,
    "scale": 10000
   },
   {
    "level": 23,
    "resolution": 2.388657133974685,
    "scale": 9027.977411
   },
   {
    "level": 24,
    "resolution": 2.116670900008467,
    "scale": 8000
   },
   {
    "level": 25,
    "resolution": 1.3229193125052918,
    "scale": 5000
   },
   {
    "level": 26,
    "resolution": 1.1943285668550503,
    "scale": 4513.988705
   },
   {
    "level": 27,
    "resolution": 1.0583354500042335,
    "scale": 4000
   },
   {
    "level": 28,
    "resolution": 0.5971642835598172,
    "scale": 2256.994353
   },
   {
    "level": 29,
    "resolution": 0.5291677250021167,
    "scale": 2000
   },
   {
    "level": 30,
    "resolution": 0.29858214164761665,
    "scale": 1128.497176
   },
   {
    "level": 31,
    "resolution": 0.26458386250105836,
    "scale": 1000
   },
   {
    "level": 32,
    "resolution": 0.13229193125052918,
    "scale": 500
   },
   {
    "level": 33,
    "resolution": 0.06614596562526459,
    "scale": 250
   }
  ]
 },
 "initialExtent": {
  "xmin": -8180151.005104681,
  "ymin": 5704918.109367084,
  "xmax": -8179972.445817632,
  "ymax": 5704985.270459089,
  "spatialReference": {
   "wkid": 102100,
   "latestWkid": 3857
  }
 },
 "fullExtent": {
  "xmin": -8185982.4458751995,
  "ymin": 5686260.19606805,
  "xmax": -8158840.3458752,
  "ymax": 5726331.6960680485,
  "spatialReference": {
   "wkid": 102100,
   "latestWkid": 3857
  }
 },
 "minScale": 2048000,
 "maxScale": 250,
 "units": "esriMeters",
 "supportedImageFormatTypes": "PNG32,PNG24,PNG,JPG,DIB,TIFF,EMF,PS,PDF,GIF,SVG,SVGZ,BMP",
 "documentInfo": {
  "Title": "",
  "Author": "",
  "Comments": "",
  "Subject": "",
  "Category": "",
  "AntialiasingMode": "None",
  "TextAntialiasingMode": "Force",
  "Keywords": "Orthophoto,Photo aérienne,Agglo"
 },
 "capabilities": "Map,Query,Data",
 "supportedQueryFormats": "JSON, geoJSON",
 "exportTilesAllowed": false,
 "referenceScale": 0,
 "supportsDatumTransformation": true,
 "maxRecordCount": 1000,
 "maxImageHeight": 4096,
 "maxImageWidth": 4096,
 "supportedExtensions": "",
 "serviceItemId": "23d082aecc2449089a6f98bffe00fc40"
}
