{
 "currentVersion": 10.91,
 "serviceDescription": "",
 "mapName": "Couches",
 "description": "",
 "copyrightText": "",
 "supportsDynamicLayers": false,
 "layers": [
  {
   "id": 0,
   "name": "Orthophoto 2007 (juin)",
   "parentLayerId": -1,
   "defaultVisibility": true,
   "subLayerIds": null,
   "minScale": 0,
   "maxScale": 0,
   "type": "Raster Layer"
  }
 ],
 "tables": [],
 "spatialReference": {
  "wkid": 32188,
  "latestWkid": 32188
 },
 "singleFusedMapCache": true,
 "tileInfo": {
  "rows": 512,
  "cols": 512,
  "dpi": 96,
  "format": "JPEG",
  "compressionQuality": 85,
  "origin": {
   "x": -5317800,
   "y": 10001100
  },
  "spatialReference": {
   "wkid": 32188,
   "latestWkid": 32188
  },
  "lods": [
   {
    "level": 0,
    "resolution": 541.8677504021675,
    "scale": 2048000
   },
   {
    "level": 1,
    "resolution": 270.93387520108377,
    "scale": 1024000
   },
   {
    "level": 2,
    "resolution": 135.46693760054188,
    "scale": 512000
   },
   {
    "level": 3,
    "resolution": 67.73346880027094,
    "scale": 256000
   },
   {
    "level": 4,
    "resolution": 66.1459656252646,
    "scale": 250000
   },
   {
    "level": 5,
    "resolution": 52.91677250021167,
    "scale": 200000
   },
   {
    "level": 6,
    "resolution": 39.687579375158755,
    "scale": 150000
   },
   {
    "level": 7,
    "resolution": 33.86673440013547,
    "scale": 128000
   },
   {
    "level": 8,
    "resolution": 16.933367200067735,
    "scale": 64000
   },
   {
    "level": 9,
    "resolution": 13.229193125052918,
    "scale": 50000
   },
   {
    "level": 10,
    "resolution": 8.466683600033868,
    "scale": 32000
   },
   {
    "level": 11,
    "resolution": 6.614596562526459,
    "scale": 25000
   },
   {
    "level": 12,
    "resolution": 4.233341800016934,
    "scale": 16000
   },
   {
    "level": 13,
    "resolution": 2.6458386250105836,
    "scale": 10000
   },
   {
    "level": 14,
    "resolution": 2.116670900008467,
    "scale": 8000
   },
   {
    "level": 15,
    "resolution": 1.3229193125052918,
    "scale": 5000
   },
   {
    "level": 16,
    "resolution": 1.0583354500042335,
    "scale": 4000
   },
   {
    "level": 17,
    "resolution": 0.6614596562526459,
    "scale": 2500
   },
   {
    "level": 18,
    "resolution": 0.5291677250021167,
    "scale": 2000
   },
   {
    "level": 19,
    "resolution": 0.26458386250105836,
    "scale": 1000
   },
   {
    "level": 20,
    "resolution": 0.13229193125052918,
    "scale": 500
   },
   {
    "level": 21,
    "resolution": 0.06614596562526459,
    "scale": 250
   }
  ]
 },
 "initialExtent": {
  "xmin": 303992.00529001415,
  "ymin": 5040704.032514249,
  "xmax": 305135.80132760626,
  "ymax": 5041134.245874676,
  "spatialReference": {
   "wkid": 32188,
   "latestWkid": 32188
  }
 },
 "fullExtent": {
  "xmin": 300000,
  "ymin": 5028999.899999999,
  "xmax": 321000.00000000006,
  "ymax": 5058999.9,
  "spatialReference": {
   "wkid": 32188,
   "latestWkid": 32188
  }
 },
 "minScale": 250000,
 "maxScale": 250,
 "minLOD": 0,
 "maxLOD": 21,
 "units": "esriMeters",
 "supportedImageFormatTypes": "PNG32,PNG24,PNG,JPG,DIB,TIFF,EMF,PS,PDF,GIF,SVG,SVGZ,BMP",
 "documentInfo": {
  "Title": "PlanDesRues_ARCSDE",
  "Author": "douell29",
  "Comments": "",
  "Subject": "",
  "Category": "",
  "AntialiasingMode": "None",
  "TextAntialiasingMode": "Force",
  "Keywords": ""
 },
 "capabilities": "Map,Query,Data",
 "supportedQueryFormats": "JSON, geoJSON",
 "exportTilesAllowed": false,
 "referenceScale": 0,
 "datumTransformations": [
  {
   "geoTransforms": [
    {
     "wkid": 108001,
     "latestWkid": 1241,
     "transformForward": true,
     "name": "NAD_1927_To_NAD_1983_NADCON"
    }
   ]
  },
  {
   "geoTransforms": [
    {
     "wkid": 108001,
     "latestWkid": 1241,
     "transformForward": false,
     "name": "NAD_1927_To_NAD_1983_NADCON"
    }
   ]
  }
 ],
 "supportsDatumTransformation": true,
 "maxRecordCount": 1000,
 "maxImageHeight": 4096,
 "maxImageWidth": 4096,
 "supportedExtensions": "",
 "serviceItemId": "ba47667f61de467db26ceb9178ee716e"
}
