{
 "version": 1.0,
 "tileBundlesPath": "./tile",
 "storageInfo": {
  "packetSize": 128,
  "storageFormat": "esriMapCacheStorageModeCompactV2"
 },
 "tileImageInfo": {
  "format": "MIXED",
  "compressionQuality": 75,
  "bandCount": 1,
  "lercError": 0
 },
 "tileInfo": {
  "spatialReference": {
   "wkid": 32188,
   "latestWkid": 32188
  },
  "origin": {
   "x": -5317800,
   "y": 10001100
  },
  "rows": 256,
  "cols": 256,
  "dpi": 96,
  "lods": [
   {
    "level": 0,
    "resolution": 541.8677504021675,
    "scale": 2048000
   },
   {
    "level": 1,
    "resolution": 305.74811314055756,
    "scale": 1155581.108577
   },
   {
    "level": 2,
    "resolution": 270.93387520108377,
    "scale": 1024000
   },
   {
    "level": 3,
    "resolution": 152.87405657041106,
    "scale": 577790.554289
   },
   {
    "level": 4,
    "resolution": 135.46693760054188,
    "scale": 512000
   },
   {
    "level": 5,
    "resolution": 76.43702828507324,
    "scale": 288895.277144
   },
   {
    "level": 6,
    "resolution": 67.73346880027094,
    "scale": 256000
   },
   {
    "level": 7,
    "resolution": 66.1459656252646,
    "scale": 250000
   },
   {
    "level": 8,
    "resolution": 52.91677250021167,
    "scale": 200000
   },
   {
    "level": 9,
    "resolution": 39.687579375158755,
    "scale": 150000
   },
   {
    "level": 10,
    "resolution": 38.21851414253662,
    "scale": 144447.638572
   },
   {
    "level": 11,
    "resolution": 33.86673440013547,
    "scale": 128000
   },
   {
    "level": 12,
    "resolution": 26.458386250105836,
    "scale": 100000
   },
   {
    "level": 13,
    "resolution": 19.843789687579378,
    "scale": 75000
   },
   {
    "level": 14,
    "resolution": 19.10925707126831,
    "scale": 72223.819286
   },
   {
    "level": 15,
    "resolution": 16.933367200067735,
    "scale": 64000
   },
   {
    "level": 16,
    "resolution": 13.229193125052918,
    "scale": 50000
   },
   {
    "level": 17,
    "resolution": 9.554628535634155,
    "scale": 36111.909643
   },
   {
    "level": 18,
    "resolution": 8.466683600033868,
    "scale": 32000
   },
   {
    "level": 19,
    "resolution": 6.614596562526459,
    "scale": 25000
   },
   {
    "level": 20,
    "resolution": 4.77731426794937,
    "scale": 18055.954822
   },
   {
    "level": 21,
    "resolution": 4.233341800016934,
    "scale": 16000
   },
   {
    "level": 22,
    "resolution": 2.6458386250105836,
    "scale": 10000
   },
   {
    "level": 23,
    "resolution": 2.388657133974685,
    "scale": 9027.977411
   },
   {
    "level": 24,
    "resolution": 2.116670900008467,
    "scale": 8000
   },
   {
    "level": 25,
    "resolution": 1.3229193125052918,
    "scale": 5000
   },
   {
    "level": 26,
    "resolution": 1.1943285668550503,
    "scale": 4513.988705
   },
   {
    "level": 27,
    "resolution": 1.0583354500042335,
    "scale": 4000
   },
   {
    "level": 28,
    "resolution": 0.6614596562526459,
    "scale": 2500
   },
   {
    "level": 29,
    "resolution": 0.5971642835598172,
    "scale": 2256.994353
   },
   {
    "level": 30,
    "resolution": 0.5291677250021167,
    "scale": 2000
   },
   {
    "level": 31,
    "resolution": 0.29858214164761665,
    "scale": 1128.497176
   },
   {
    "level": 32,
    "resolution": 0.26458386250105836,
    "scale": 1000
   },
   {
    "level": 33,
    "resolution": 0.13229193125052918,
    "scale": 500
   },
   {
    "level": 34,
    "resolution": 0.06614596562526459,
    "scale": 250
   }
  ],
  "format": "MIXED",
  "compressionQuality": 75,
  "bandCount": 1,
  "lercError": 0,
  "storageFormat": "esriMapCacheStorageModeCompactV2",
  "packetSize": 128
 },
 "name": "Orthophoto 2022",
 "serviceDescription": "",
 "spatialReference": {
  "wkid": 32188,
  "latestWkid": 32188,
  "xyTolerance": 0.001,
  "zTolerance": 0.001,
  "mTolerance": 0.001,
  "falseX": -5317800,
  "falseY": -10001100,
  "xyUnits": 4.503104285899046E8,
  "falseZ": -100000,
  "zUnits": 10000,
  "falseM": -100000,
  "mUnits": 10000
 },
 "units": "esriMeters",
 "minLOD": 0,
 "maxLOD": 34,
 "resampling": true,
 "layers": [
  {
   "id": 0,
   "name": "Orthophoto 2022",
   "parentLayerId": -1,
   "defaultVisibility": true,
   "subLayerIds": null,
   "minScale": 0,
   "maxScale": 0,
   "type": "Raster Layer",
   "supportsDynamicLegends": true,
   "legend": [
    {
     "label": "Red: Band_1",
     "imageData": "iVBORw0KGgoAAAANSUhEUgAAABQAAAAUCAYAAACNiR0NAAAACXBIWXMAAA7EAAAOxAGVKw4bAAAAOklEQVQ4jWNhoDJgoZmB/8GIfMAIRrR0IbUAC9VMgoJRAykHLFQwAwWMGkg5YBnBBjJCyzOqGUgtAABgfwJTnasaYgAAAABJRU5ErkJggg==",
     "contentType": "image/png",
     "groupId": "0",
     "height": 20,
     "width": 20,
     "layerId": 0,
     "layerName": "Orthophoto 2022"
    },
    {
     "label": "Green: Band_2",
     "imageData": "iVBORw0KGgoAAAANSUhEUgAAABQAAAAUCAYAAACNiR0NAAAACXBIWXMAAA7EAAAOxAGVKw4bAAAAPElEQVQ4je3UoQ0AMBBCUS5h/5WvpkmDhjr+AE8gIMLxH7hYSxqMgqFY0I4+oRX0Y8CQCvq9De+f5cBQB19+AlPZl25RAAAAAElFTkSuQmCC",
     "contentType": "image/png",
     "groupId": "0",
     "height": 20,
     "width": 20,
     "layerId": 0,
     "layerName": "Orthophoto 2022"
    },
    {
     "label": "Blue: Band_3",
     "imageData": "iVBORw0KGgoAAAANSUhEUgAAABQAAAAUCAYAAACNiR0NAAAACXBIWXMAAA7EAAAOxAGVKw4bAAAAPElEQVQ4jWNhoDJgoaGB//9TZhQjI5qB1AEsowZSDFgoNwIVjBpIOWChghkoYNRAygFSGELKMyoaSB0AAF59AlO8NYpcAAAAAElFTkSuQmCC",
     "contentType": "image/png",
     "groupId": "0",
     "height": 20,
     "width": 20,
     "layerId": 0,
     "layerName": "Orthophoto 2022"
    }
   ],
   "layerId": 0,
   "layerName": "Orthophoto 2022",
   "serviceItemId": "e1b2b3f33e8444589546f210a08f611e"
  }
 ],
 "initialExtent": {
  "xmin": 302000.0074504614,
  "ymin": 5030000.051173398,
  "xmax": 321000.0073796809,
  "ymax": 5058000.15106909,
  "spatialReference": {
   "wkid": 32188,
   "latestWkid": 32188
  }
 },
 "fullExtent": {
  "xmin": 302000.0074504614,
  "ymin": 5030000.051173398,
  "xmax": 321000.0073796809,
  "ymax": 5058000.15106909,
  "spatialReference": {
   "wkid": 32188,
   "latestWkid": 32188
  }
 },
 "minScale": 2048000.0,
 "maxScale": 250.0,
 "exportTilesAllowed": false,
 "maxExportTilesCount": 0,
 "currentVersion": 10.91,
 "mapName": "Orthophoto 2022",
 "singleFusedMapCache": true,
 "type": "MapServer",
 "supportedExtensions": "",
 "capabilities": "TilesOnly,Tilemap",
 "serviceItemId": "e1b2b3f33e8444589546f210a08f611e"
}
